BEGIN:VCALENDAR
VERSION:2.0
PRODID:-//hacksw/handcal//NONSGML v1.0//EN
BEGIN:VEVENT
SUMMARY:chpt tete a tete jeune livron
UID:f77461b3-5ab5-46b8-945c-70bbcef771ee
DTSTART:20260321T230000Z
DTEND:20260322T230000Z
LOCATION:Localisation   
CATEGORIES:Sportif
STATUS:
URL;VALUE=URI:https://www.castelpetanque-chato9.com/evenements/2026/03/22/chpt-tete-a-tete-jeune-livron-2429754
END:VEVENT
END:VCALENDAR
